Package: geneRecommender Version: 1.81.0 Command: /home/biocbuild/R/R/bin/R CMD build --keep-empty-dirs --no-resave-data geneRecommender StartedAt: 2025-10-17 01:25:03 -0000 (Fri, 17 Oct 2025) EndedAt: 2025-10-17 01:25:10 -0000 (Fri, 17 Oct 2025) EllapsedTime: 7.0 seconds RetCode: 0 Status: OK PackageFile: geneRecommender_1.81.0.tar.gz PackageFileSize: 231.4 KiB