Package: geneRecommender Version: 1.81.0 Command: /home/biocbuild/bbs-3.22-bioc/R/bin/R CMD check --install=check:geneRecommender.install-out.txt --library=/home/biocbuild/bbs-3.22-bioc/R/site-library --timings geneRecommender_1.81.0.tar.gz StartedAt: 2025-10-20 00:11:25 -0400 (Mon, 20 Oct 2025) EndedAt: 2025-10-20 00:11:49 -0400 (Mon, 20 Oct 2025) EllapsedTime: 24.0 seconds RetCode: 0 Status: OK CheckDir: geneRecommender.Rcheck Warnings: 0