Package: geneRecommender Version: 1.81.0 Command: /Library/Frameworks/R.framework/Resources/bin/R CMD INSTALL geneRecommender StartedAt: 2025-10-19 15:16:04 -0400 (Sun, 19 Oct 2025) EndedAt: 2025-10-19 15:16:14 -0400 (Sun, 19 Oct 2025) EllapsedTime: 10.1 seconds RetCode: 0 Status: OK