Package: geneRecommender Version: 1.81.0 Command: /Library/Frameworks/R.framework/Resources/bin/R CMD check --install=check:geneRecommender.install-out.txt --library=/Library/Frameworks/R.framework/Resources/library --no-vignettes --timings geneRecommender_1.81.0.tar.gz StartedAt: 2025-10-21 22:09:38 -0400 (Tue, 21 Oct 2025) EndedAt: 2025-10-21 22:10:32 -0400 (Tue, 21 Oct 2025) EllapsedTime: 53.8 seconds RetCode: 0 Status: OK CheckDir: geneRecommender.Rcheck Warnings: 0