Package: geneRecommender Version: 1.81.0 Command: /Library/Frameworks/R.framework/Resources/bin/R CMD build --keep-empty-dirs --no-resave-data geneRecommender StartedAt: 2025-10-19 17:19:25 -0400 (Sun, 19 Oct 2025) EndedAt: 2025-10-19 17:19:37 -0400 (Sun, 19 Oct 2025) EllapsedTime: 11.5 seconds RetCode: 0 Status: OK PackageFile: geneRecommender_1.81.0.tar.gz PackageFileSize: 239.4 KiB