Package: geneRecommender Version: 1.81.0 Command: rm -rf geneRecommender.buildbin-libdir && mkdir geneRecommender.buildbin-libdir && /Users/biocbuild/BBS/utils/build-universal.sh geneRecommender_1.81.0.tar.gz /Library/Frameworks/R.framework/Resources/bin/R geneRecommender.buildbin-libdir StartedAt: 2025-10-20 03:10:39 -0400 (Mon, 20 Oct 2025) EndedAt: 2025-10-20 03:10:46 -0400 (Mon, 20 Oct 2025) EllapsedTime: 7.1 seconds RetCode: 0 Status: OK PackageFile: geneRecommender_1.81.0.tgz PackageFileSize: 263.3 KiB