Package: geneRecommender Version: 1.81.0 Command: /Library/Frameworks/R.framework/Resources/bin/R CMD INSTALL geneRecommender StartedAt: 2025-10-17 15:07:00 -0400 (Fri, 17 Oct 2025) EndedAt: 2025-10-17 15:07:01 -0400 (Fri, 17 Oct 2025) EllapsedTime: 1.5 seconds RetCode: 0 Status: OK