Package: geneRecommender Version: 1.81.0 Command: rm -rf geneRecommender.buildbin-libdir && mkdir geneRecommender.buildbin-libdir && /Users/biocbuild/BBS/utils/build-universal.sh geneRecommender_1.81.0.tar.gz /Library/Frameworks/R.framework/Resources/bin/R geneRecommender.buildbin-libdir StartedAt: 2025-10-16 23:02:27 -0400 (Thu, 16 Oct 2025) EndedAt: 2025-10-16 23:02:29 -0400 (Thu, 16 Oct 2025) EllapsedTime: 2.0 seconds RetCode: 0 Status: OK PackageFile: geneRecommender_1.81.0.tgz PackageFileSize: 264.1 KiB