Package: geneAttribution Version: 1.35.1 Command: F:\biocbuild\bbs-3.22-bioc\R\bin\R.exe CMD check --no-multiarch --install=check:geneAttribution.install-out.txt --library=F:\biocbuild\bbs-3.22-bioc\R\library --no-vignettes --timings geneAttribution_1.35.1.tar.gz StartedAt: 2025-08-15 03:29:09 -0400 (Fri, 15 Aug 2025) EndedAt: 2025-08-15 03:34:18 -0400 (Fri, 15 Aug 2025) EllapsedTime: 308.1 seconds RetCode: 0 Status: OK CheckDir: geneAttribution.Rcheck Warnings: 0