Package: geneAttribution Version: 1.35.1 Command: /Library/Frameworks/R.framework/Resources/bin/R CMD INSTALL geneAttribution StartedAt: 2025-10-23 15:39:43 -0400 (Thu, 23 Oct 2025) EndedAt: 2025-10-23 15:40:28 -0400 (Thu, 23 Oct 2025) EllapsedTime: 45.4 seconds RetCode: 0 Status: OK