Package: geneAttribution Version: 1.35.1 Command: /Library/Frameworks/R.framework/Resources/bin/R CMD build --keep-empty-dirs --no-resave-data geneAttribution StartedAt: 2025-10-23 17:03:28 -0400 (Thu, 23 Oct 2025) EndedAt: 2025-10-23 17:04:12 -0400 (Thu, 23 Oct 2025) EllapsedTime: 43.4 seconds RetCode: 0 Status: OK PackageFile: geneAttribution_1.35.1.tar.gz PackageFileSize: 39.19 KiB