Package: genArise Version: 1.85.0 Command: /Library/Frameworks/R.framework/Resources/bin/R CMD check --install=check:genArise.install-out.txt --library=/Library/Frameworks/R.framework/Resources/library --no-vignettes --timings genArise_1.85.0.tar.gz StartedAt: 2025-10-01 19:43:53 -0400 (Wed, 01 Oct 2025) EndedAt: 2025-10-01 19:44:11 -0400 (Wed, 01 Oct 2025) EllapsedTime: 18.2 seconds RetCode: 0 Status: WARNINGS CheckDir: genArise.Rcheck Warnings: 1