Package: genArise Version: 1.85.0 Command: rm -rf genArise.buildbin-libdir && mkdir genArise.buildbin-libdir && /Users/biocbuild/BBS/utils/build-universal.sh genArise_1.85.0.tar.gz /Library/Frameworks/R.framework/Resources/bin/R genArise.buildbin-libdir StartedAt: 2025-10-02 23:04:50 -0400 (Thu, 02 Oct 2025) EndedAt: 2025-10-02 23:04:56 -0400 (Thu, 02 Oct 2025) EllapsedTime: 5.1 seconds RetCode: 0 Status: OK PackageFile: genArise_1.85.0.tgz PackageFileSize: 1.247 MiB