Package: gemini Version: 1.23.0 Command: chmod a+r gemini -R && F:\biocbuild\bbs-3.22-bioc\R\bin\R.exe CMD build --keep-empty-dirs --no-resave-data gemini StartedAt: 2025-08-14 20:22:40 -0400 (Thu, 14 Aug 2025) EndedAt: 2025-08-14 20:23:19 -0400 (Thu, 14 Aug 2025) EllapsedTime: 39.3 seconds RetCode: 0 Status: OK PackageFile: gemini_1.23.0.tar.gz PackageFileSize: 4.015 MiB