Package: gdsfmt Version: 1.45.2 Command: /home/biocbuild/bbs-3.22-bioc/R/bin/R CMD INSTALL gdsfmt StartedAt: 2025-10-19 15:03:55 -0400 (Sun, 19 Oct 2025) EndedAt: 2025-10-19 15:07:53 -0400 (Sun, 19 Oct 2025) EllapsedTime: 238.6 seconds RetCode: 0 Status: OK