Package: gdsfmt Version: 1.45.2 Command: /home/biocbuild/bbs-3.22-bioc/R/bin/R CMD check --install=check:gdsfmt.install-out.txt --library=/home/biocbuild/bbs-3.22-bioc/R/site-library --timings gdsfmt_1.45.2.tar.gz StartedAt: 2025-10-20 00:06:57 -0400 (Mon, 20 Oct 2025) EndedAt: 2025-10-20 00:09:03 -0400 (Mon, 20 Oct 2025) EllapsedTime: 126.1 seconds RetCode: 0 Status: OK CheckDir: gdsfmt.Rcheck Warnings: 0