Package: gdsfmt Version: 1.45.2 Command: /Library/Frameworks/R.framework/Resources/bin/R CMD build --keep-empty-dirs --no-resave-data gdsfmt StartedAt: 2025-10-21 17:20:08 -0400 (Tue, 21 Oct 2025) EndedAt: 2025-10-21 17:25:06 -0400 (Tue, 21 Oct 2025) EllapsedTime: 298.5 seconds RetCode: 0 Status: OK PackageFile: gdsfmt_1.45.2.tar.gz PackageFileSize: 2.796 MiB