Package: gdsfmt Version: 1.45.2 Command: rm -rf gdsfmt.buildbin-libdir && mkdir gdsfmt.buildbin-libdir && /Users/biocbuild/BBS/utils/build-universal.sh gdsfmt_1.45.2.tar.gz /Library/Frameworks/R.framework/Resources/bin/R gdsfmt.buildbin-libdir StartedAt: 2025-10-22 02:26:01 -0400 (Wed, 22 Oct 2025) EndedAt: 2025-10-22 02:31:02 -0400 (Wed, 22 Oct 2025) EllapsedTime: 300.5 seconds RetCode: 0 Status: OK PackageFile: gdsfmt_1.45.2.tgz PackageFileSize: 1.883 MiB