Package: gdsfmt Version: 1.45.2 Command: /Library/Frameworks/R.framework/Resources/bin/R CMD INSTALL gdsfmt StartedAt: 2025-10-21 15:02:31 -0400 (Tue, 21 Oct 2025) EndedAt: 2025-10-21 15:03:34 -0400 (Tue, 21 Oct 2025) EllapsedTime: 62.9 seconds RetCode: 0 Status: OK