Package: gdsfmt Version: 1.45.2 Command: /Library/Frameworks/R.framework/Resources/bin/R CMD check --install=check:gdsfmt.install-out.txt --library=/Library/Frameworks/R.framework/Resources/library --no-vignettes --timings gdsfmt_1.45.2.tar.gz StartedAt: 2025-10-21 19:52:50 -0400 (Tue, 21 Oct 2025) EndedAt: 2025-10-21 19:54:00 -0400 (Tue, 21 Oct 2025) EllapsedTime: 69.8 seconds RetCode: 0 Status: OK CheckDir: gdsfmt.Rcheck Warnings: 0