Package: gcrma Version: 2.81.0 Command: /home/biocbuild/R/R/bin/R CMD INSTALL gcrma StartedAt: 2025-10-16 21:27:54 -0000 (Thu, 16 Oct 2025) EndedAt: 2025-10-16 21:28:08 -0000 (Thu, 16 Oct 2025) EllapsedTime: 14.6 seconds RetCode: 0 Status: OK