Package: gcrma Version: 2.81.0 Command: /home/biocbuild/R/R/bin/R CMD check --install=check:gcrma.install-out.txt --library=/home/biocbuild/R/R/site-library --no-vignettes --timings gcrma_2.81.0.tar.gz StartedAt: 2025-10-17 09:13:22 -0000 (Fri, 17 Oct 2025) EndedAt: 2025-10-17 09:15:25 -0000 (Fri, 17 Oct 2025) EllapsedTime: 123.1 seconds RetCode: 0 Status: OK CheckDir: gcrma.Rcheck Warnings: 0