Package: gcrma Version: 2.81.0 Command: /home/biocbuild/bbs-3.22-bioc/R/bin/R CMD INSTALL gcrma StartedAt: 2025-10-22 15:15:13 -0400 (Wed, 22 Oct 2025) EndedAt: 2025-10-22 15:15:23 -0400 (Wed, 22 Oct 2025) EllapsedTime: 10.3 seconds RetCode: 0 Status: OK