Package: gcrma Version: 2.81.0 Command: /home/biocbuild/bbs-3.22-bioc/R/bin/R CMD build --keep-empty-dirs --no-resave-data --md5 gcrma StartedAt: 2025-10-22 17:44:47 -0400 (Wed, 22 Oct 2025) EndedAt: 2025-10-22 17:45:01 -0400 (Wed, 22 Oct 2025) EllapsedTime: 14.0 seconds RetCode: 0 Status: OK PackageFile: gcrma_2.81.0.tar.gz PackageFileSize: 290.3 KiB