Package: gcrma Version: 2.81.0 Command: /Library/Frameworks/R.framework/Resources/bin/R CMD INSTALL gcrma StartedAt: 2025-10-24 15:25:18 -0400 (Fri, 24 Oct 2025) EndedAt: 2025-10-24 15:25:37 -0400 (Fri, 24 Oct 2025) EllapsedTime: 19.2 seconds RetCode: 0 Status: OK