Package: gcatest Version: 2.10.0 Command: /home/biocbuild/R/R/bin/R CMD INSTALL gcatest StartedAt: 2025-11-20 21:50:11 -0000 (Thu, 20 Nov 2025) EndedAt: 2025-11-20 21:50:47 -0000 (Thu, 20 Nov 2025) EllapsedTime: 36.4 seconds RetCode: 0 Status: OK