Package: gcatest Version: 2.10.0 Command: /home/biocbuild/R/R/bin/R CMD build --keep-empty-dirs --no-resave-data gcatest StartedAt: 2025-11-21 02:33:16 -0000 (Fri, 21 Nov 2025) EndedAt: 2025-11-21 02:33:45 -0000 (Fri, 21 Nov 2025) EllapsedTime: 29.0 seconds RetCode: 0 Status: OK PackageFile: gcatest_2.10.0.tar.gz PackageFileSize: 2.143 MiB