Package: gcatest Version: 2.10.0 Command: /Library/Frameworks/R.framework/Resources/bin/R CMD build --keep-empty-dirs --no-resave-data gcatest StartedAt: 2025-11-20 20:12:37 -0500 (Thu, 20 Nov 2025) EndedAt: 2025-11-20 20:13:25 -0500 (Thu, 20 Nov 2025) EllapsedTime: 47.8 seconds RetCode: 0 Status: OK PackageFile: gcatest_2.10.0.tar.gz PackageFileSize: 2.147 MiB