Package: gcatest Version: 2.10.0 Command: /Library/Frameworks/R.framework/Resources/bin/R CMD build --keep-empty-dirs --no-resave-data gcatest StartedAt: 2025-11-10 16:27:10 -0500 (Mon, 10 Nov 2025) EndedAt: 2025-11-10 16:27:24 -0500 (Mon, 10 Nov 2025) EllapsedTime: 14.2 seconds RetCode: 0 Status: OK PackageFile: gcatest_2.10.0.tar.gz PackageFileSize: 2.147 MiB