Package: gcapc Version: 1.33.1 Command: /Library/Frameworks/R.framework/Resources/bin/R CMD INSTALL gcapc StartedAt: 2025-10-21 15:32:57 -0400 (Tue, 21 Oct 2025) EndedAt: 2025-10-21 15:33:39 -0400 (Tue, 21 Oct 2025) EllapsedTime: 41.8 seconds RetCode: 0 Status: OK