Package: gcapc Version: 1.33.1 Command: /Library/Frameworks/R.framework/Resources/bin/R CMD check --install=check:gcapc.install-out.txt --library=/Library/Frameworks/R.framework/Resources/library --no-vignettes --timings gcapc_1.33.1.tar.gz StartedAt: 2025-10-20 22:29:03 -0400 (Mon, 20 Oct 2025) EndedAt: 2025-10-20 22:37:51 -0400 (Mon, 20 Oct 2025) EllapsedTime: 528.8 seconds RetCode: 0 Status: OK CheckDir: gcapc.Rcheck Warnings: 0