Package: gcapc Version: 1.33.1 Command: /Library/Frameworks/R.framework/Resources/bin/R CMD check --install=check:gcapc.install-out.txt --library=/Library/Frameworks/R.framework/Resources/library --no-vignettes --timings gcapc_1.33.1.tar.gz StartedAt: 2025-10-22 19:51:02 -0400 (Wed, 22 Oct 2025) EndedAt: 2025-10-22 19:53:28 -0400 (Wed, 22 Oct 2025) EllapsedTime: 146.7 seconds RetCode: 0 Status: OK CheckDir: gcapc.Rcheck Warnings: 0