Package: gatom Version: 1.7.0 Command: /home/biocbuild/R/R/bin/R CMD INSTALL gatom StartedAt: 2025-10-16 21:40:03 -0000 (Thu, 16 Oct 2025) EndedAt: 2025-10-16 21:40:28 -0000 (Thu, 16 Oct 2025) EllapsedTime: 24.9 seconds RetCode: 0 Status: OK