Package: gatom Version: 1.7.0 Command: /Library/Frameworks/R.framework/Resources/bin/R CMD INSTALL gatom StartedAt: 2025-10-19 15:27:52 -0400 (Sun, 19 Oct 2025) EndedAt: 2025-10-19 15:28:16 -0400 (Sun, 19 Oct 2025) EllapsedTime: 24.5 seconds RetCode: 0 Status: OK