Package: gatom Version: 1.7.0 Command: /Library/Frameworks/R.framework/Resources/bin/R CMD check --install=check:gatom.install-out.txt --library=/Library/Frameworks/R.framework/Resources/library --no-vignettes --timings gatom_1.7.0.tar.gz StartedAt: 2025-10-19 22:26:27 -0400 (Sun, 19 Oct 2025) EndedAt: 2025-10-19 22:32:47 -0400 (Sun, 19 Oct 2025) EllapsedTime: 379.3 seconds RetCode: 1 Status: ERROR CheckDir: gatom.Rcheck Warnings: NA