Package: gatom Version: 1.7.0 Command: /Library/Frameworks/R.framework/Resources/bin/R CMD build --keep-empty-dirs --no-resave-data gatom StartedAt: 2025-10-19 17:16:35 -0400 (Sun, 19 Oct 2025) EndedAt: 2025-10-19 17:23:34 -0400 (Sun, 19 Oct 2025) EllapsedTime: 418.9 seconds RetCode: 0 Status: OK PackageFile: gatom_1.7.0.tar.gz PackageFileSize: 1.611 MiB