Package: gaga Version: 2.55.0 Command: F:\biocbuild\bbs-3.22-bioc\R\bin\R.exe CMD check --no-multiarch --install=check:gaga.install-out.txt --library=F:\biocbuild\bbs-3.22-bioc\R\library --no-vignettes --timings gaga_2.55.0.tar.gz StartedAt: 2025-08-15 03:23:00 -0400 (Fri, 15 Aug 2025) EndedAt: 2025-08-15 03:24:14 -0400 (Fri, 15 Aug 2025) EllapsedTime: 74.4 seconds RetCode: 0 Status: WARNINGS CheckDir: gaga.Rcheck Warnings: 1