Package: gaga Version: 2.55.0 Command: chmod a+r gaga -R && F:\biocbuild\bbs-3.22-bioc\R\bin\R.exe CMD build --keep-empty-dirs --no-resave-data gaga StartedAt: 2025-08-14 20:19:35 -0400 (Thu, 14 Aug 2025) EndedAt: 2025-08-14 20:20:12 -0400 (Thu, 14 Aug 2025) EllapsedTime: 37.0 seconds RetCode: 0 Status: OK PackageFile: gaga_2.55.0.tar.gz PackageFileSize: 431.9 KiB