Package: gaga Version: 2.55.0 Command: /Library/Frameworks/R.framework/Resources/bin/R CMD build --keep-empty-dirs --no-resave-data gaga StartedAt: 2025-10-03 17:05:07 -0400 (Fri, 03 Oct 2025) EndedAt: 2025-10-03 17:05:41 -0400 (Fri, 03 Oct 2025) EllapsedTime: 34.3 seconds RetCode: 0 Status: OK PackageFile: gaga_2.55.0.tar.gz PackageFileSize: 568.5 KiB