Package: gaga Version: 2.55.0 Command: /Library/Frameworks/R.framework/Resources/bin/R CMD INSTALL gaga StartedAt: 2025-10-03 15:07:22 -0400 (Fri, 03 Oct 2025) EndedAt: 2025-10-03 15:07:27 -0400 (Fri, 03 Oct 2025) EllapsedTime: 5.5 seconds RetCode: 0 Status: OK