Package: gaga Version: 2.55.0 Command: rm -rf gaga.buildbin-libdir && mkdir gaga.buildbin-libdir && /Users/biocbuild/BBS/utils/build-universal.sh gaga_2.55.0.tar.gz /Library/Frameworks/R.framework/Resources/bin/R gaga.buildbin-libdir StartedAt: 2025-10-03 22:39:46 -0400 (Fri, 03 Oct 2025) EndedAt: 2025-10-03 22:39:56 -0400 (Fri, 03 Oct 2025) EllapsedTime: 10.1 seconds RetCode: 0 Status: OK PackageFile: gaga_2.55.0.tgz PackageFileSize: 768.4 KiB