Package: gVenn Version: 0.99.5 Command: /home/biocbuild/R/R/bin/R CMD build --keep-empty-dirs --no-resave-data gVenn StartedAt: 2025-10-21 00:22:52 -0000 (Tue, 21 Oct 2025) EndedAt: 2025-10-21 00:23:14 -0000 (Tue, 21 Oct 2025) EllapsedTime: 22.0 seconds RetCode: 0 Status: OK PackageFile: gVenn_0.99.5.tar.gz PackageFileSize: 1.722 MiB