Package: gVenn Version: 0.99.5 Command: /home/biocbuild/bbs-3.22-bioc/R/bin/R CMD INSTALL gVenn StartedAt: 2025-10-20 15:25:30 -0400 (Mon, 20 Oct 2025) EndedAt: 2025-10-20 15:25:32 -0400 (Mon, 20 Oct 2025) EllapsedTime: 2.0 seconds RetCode: 0 Status: OK