Package: gVenn Version: 0.99.5 Command: /Library/Frameworks/R.framework/Resources/bin/R CMD INSTALL gVenn StartedAt: 2025-10-20 15:28:57 -0400 (Mon, 20 Oct 2025) EndedAt: 2025-10-20 15:29:01 -0400 (Mon, 20 Oct 2025) EllapsedTime: 3.7 seconds RetCode: 0 Status: OK