Package: gVenn Version: 0.99.5 Command: /Library/Frameworks/R.framework/Resources/bin/R CMD check --install=check:gVenn.install-out.txt --library=/Library/Frameworks/R.framework/Resources/library --no-vignettes --timings gVenn_0.99.5.tar.gz StartedAt: 2025-10-20 22:59:41 -0400 (Mon, 20 Oct 2025) EndedAt: 2025-10-20 23:02:56 -0400 (Mon, 20 Oct 2025) EllapsedTime: 194.8 seconds RetCode: 0 Status: OK CheckDir: gVenn.Rcheck Warnings: 0