Package: gVenn Version: 0.99.5 Command: /Library/Frameworks/R.framework/Resources/bin/R CMD build --keep-empty-dirs --no-resave-data gVenn StartedAt: 2025-10-20 17:29:18 -0400 (Mon, 20 Oct 2025) EndedAt: 2025-10-20 17:29:42 -0400 (Mon, 20 Oct 2025) EllapsedTime: 24.0 seconds RetCode: 0 Status: OK PackageFile: gVenn_0.99.5.tar.gz PackageFileSize: 2.232 MiB