Package: gVenn Version: 0.99.5 Command: rm -rf gVenn.buildbin-libdir && mkdir gVenn.buildbin-libdir && /Users/biocbuild/BBS/utils/build-universal.sh gVenn_0.99.5.tar.gz /Library/Frameworks/R.framework/Resources/bin/R gVenn.buildbin-libdir StartedAt: 2025-10-21 03:15:39 -0400 (Tue, 21 Oct 2025) EndedAt: 2025-10-21 03:15:47 -0400 (Tue, 21 Oct 2025) EllapsedTime: 8.1 seconds RetCode: 0 Status: OK PackageFile: gVenn_0.99.5.tgz PackageFileSize: 2.006 MiB