Package: gVenn Version: 0.99.5 Maintainer: Christophe Tav MaintainerEmail: christophe.tav at gmail.com git_url: https://git.bioconductor.org/packages/gVenn git_branch: devel git_last_commit: 50318aa git_last_commit_date: 2025-10-15 23:57:54 -0400 (Wed, 15 Oct 2025)