Package: gINTomics Version: 1.5.1 Command: /home/biocbuild/R/R/bin/R CMD check --install=check:gINTomics.install-out.txt --library=/home/biocbuild/R/R/site-library --no-vignettes --timings gINTomics_1.5.1.tar.gz StartedAt: 2025-10-10 09:27:03 -0000 (Fri, 10 Oct 2025) EndedAt: 2025-10-10 09:46:02 -0000 (Fri, 10 Oct 2025) EllapsedTime: 1139.8 seconds RetCode: 0 Status: OK CheckDir: gINTomics.Rcheck Warnings: 0