Package: gINTomics Version: 1.5.1 Command: /home/biocbuild/R/R/bin/R CMD build --keep-empty-dirs --no-resave-data gINTomics StartedAt: 2025-10-10 00:56:31 -0000 (Fri, 10 Oct 2025) EndedAt: 2025-10-10 01:13:24 -0000 (Fri, 10 Oct 2025) EllapsedTime: 1012.3 seconds RetCode: 0 Status: OK PackageFile: gINTomics_1.5.1.tar.gz PackageFileSize: 3.567 MiB